BEGIN:VCALENDAR
METHOD:PUBLISH
VERSION:2.0
CALSCALE:GREGORIAN
PRODID:-//NONSGML WPForms//NONSGML Sugar Calendar Feeds v3.10.0//EN
X-WR-CALNAME:Highway Committee
X-WR-CALDESC:Grant County
X-WR-TIMEZONE:America/Chicago
BEGIN:VTIMEZONE
TZID:America/Chicago
BEGIN:STANDARD
TZOFFSETFROM:-0500
TZOFFSETTO:-0600
DTSTART:20251102T070000
TZNAME:CST
END:STANDARD
END:VTIMEZONE
BEGIN:VTIMEZONE
TZID:America/Chicago
BEGIN:STANDARD
TZOFFSETFROM:-0500
TZOFFSETTO:-0600
DTSTART:20251102T070000
TZNAME:CST
END:STANDARD
END:VTIMEZONE
BEGIN:VEVENT
SUMMARY:Highway Committee
DESCRIPTION:Agenda\n\nPacket
URL;VALUE=URI:https://gcinternetwebsite.co.grant.wi.gov/events/highway-c
 ommittee-6/
UID:urn:uuid:da5c7e6d-382b-43cd-9254-8ffc4bc54566
STATUS:CONFIRMED
ORGANIZER:
DTSTAMP:20260421T025011Z
DTSTART;TZID=America/Chicago:20260219T090000
DTEND;TZID=America/Chicago:20260219T110000
END:VEVENT
END:VCALENDAR