BEGIN:VCALENDAR
METHOD:PUBLISH
VERSION:2.0
CALSCALE:GREGORIAN
PRODID:-//NONSGML WPForms//NONSGML Sugar Calendar Feeds v3.10.0//EN
X-WR-CALNAME:ADRC Committee
X-WR-CALDESC:Grant County
X-WR-TIMEZONE:America/Chicago
BEGIN:VTIMEZONE
TZID:America/Chicago
BEGIN:STANDARD
TZOFFSETFROM:-0500
TZOFFSETTO:-0600
DTSTART:20251102T070000
TZNAME:CST
END:STANDARD
END:VTIMEZONE
BEGIN:VTIMEZONE
TZID:America/Chicago
BEGIN:STANDARD
TZOFFSETFROM:-0500
TZOFFSETTO:-0600
DTSTART:20251102T070000
TZNAME:CST
END:STANDARD
END:VTIMEZONE
BEGIN:VEVENT
SUMMARY:ADRC Committee
DESCRIPTION:AGENDA\n\n&nbsp\;\n\nPACKET\n\n&nbsp\;\n\nApproved minutes
URL;VALUE=URI:https://gcinternetwebsite.co.grant.wi.gov/events/adrc-comm
 ittee-4/
UID:urn:uuid:163330bf-c229-43a5-856c-8dcdb0ebfb12
STATUS:CONFIRMED
ORGANIZER:
DTSTAMP:20260420T093704Z
DTSTART;TZID=America/Chicago:20260218T090000
DTEND;TZID=America/Chicago:20260218T110000
END:VEVENT
END:VCALENDAR